BEGIN:VCALENDAR
VERSION:2.0
PRODID:-//Semana Tomasina - ECPv5.2.0//NONSGML v1.0//EN
CALSCALE:GREGORIAN
METHOD:PUBLISH
X-WR-CALNAME:Semana Tomasina
X-ORIGINAL-URL:https://semanatomasina.santototunja.edu.co
X-WR-CALDESC:Events for Semana Tomasina
BEGIN:VTIMEZONE
TZID:America/Bogota
BEGIN:STANDARD
TZOFFSETFROM:-0500
TZOFFSETTO:-0500
TZNAME:-05
DTSTART:20210101T000000
END:STANDARD
END:VTIMEZONE
BEGIN:VEVENT
DTSTART;VALUE=DATE:20211011
DTEND;VALUE=DATE:20211016
DTSTAMP:20260422T222755
CREATED:20211001T215557Z
LAST-MODIFIED:20220921T221917Z
UID:4419-1633910400-1634342399@semanatomasina.santototunja.edu.co
SUMMARY:Exposición de pintura\, dibujo y fotografía
DESCRIPTION:Dirigido a: Toda la Comunidad Tomasina\n– Tipo de actividad: Presencial
URL:https://semanatomasina.santototunja.edu.co/evento/exposicion-de-pintura-dibujo-y-fotografia/
LOCATION:Planta Baja – Edificio Santo Domingo de Guzmán – Campus Avenida Universitaria
CATEGORIES:Jueves,Lunes,Martes,Miércoles,Viernes
ATTACH;FMTTYPE=image/jpeg:https://semanatomasina.santototunja.edu.co/wp-content/uploads/2021/10/jueves_ac.jpeg
END:VEVENT
BEGIN:VEVENT
DTSTART;VALUE=DATE:20211011
DTEND;VALUE=DATE:20211016
DTSTAMP:20260422T222755
CREATED:20211001T222908Z
LAST-MODIFIED:20211006T154404Z
UID:4450-1633910400-1634342399@semanatomasina.santototunja.edu.co
SUMMARY:Torneos Galácticos Relámpago 25 Años
DESCRIPTION:Dirigido a: Toda la Comunidad Tomasina\n– Tipo de actividad: Presencial \n(Fútbol 8\, banquitas\, baloncesto 3×3\, voleibol 4×4\, tenis de mesa\, tenis de campo).
URL:https://semanatomasina.santototunja.edu.co/evento/torneos-galacticos-relampago-25-anos-futbol-8-banquitas-baloncesto-3x3-voleibol-4x4-tenis-de-mesa-tenis-de-campo/
LOCATION:Escenarios Deportivos  – Campus Avenida Universitaria
CATEGORIES:Jueves,Lunes,Martes,Miércoles,Viernes
ATTACH;FMTTYPE=image/jpeg:https://semanatomasina.santototunja.edu.co/wp-content/uploads/2021/10/Semana-Tomasina-2021-Eventos.jpg
END:VEVENT
BEGIN:VEVENT
DTSTART;TZID=America/Bogota:20211011T080000
DTEND;TZID=America/Bogota:20211015T180000
DTSTAMP:20260422T222755
CREATED:20211001T224030Z
LAST-MODIFIED:20211006T224714Z
UID:4462-1633939200-1634320800@semanatomasina.santototunja.edu.co
SUMMARY:IV Semana de la Internacionalizacíon Virtual 2021-2
DESCRIPTION:Dirigido a: Toda la Comunidad Tomasina\n– Tipo de actividad: Virtual \nEnlace de conexión: https://us02web.zoom.us/my/ustaeventos
URL:https://semanatomasina.santototunja.edu.co/evento/iv-semana-de-la-internacionalizacion-virtual-2021-2/
LOCATION:Santoto Tunja Sala Zoom\, Colombia
CATEGORIES:Jueves,Lunes,Martes,Miércoles,Viernes
ATTACH;FMTTYPE=image/jpeg:https://semanatomasina.santototunja.edu.co/wp-content/uploads/2021/10/Semana-Tomasina-2021-Eventos.jpg
END:VEVENT
BEGIN:VEVENT
DTSTART;TZID=America/Bogota:20211011T080000
DTEND;TZID=America/Bogota:20211016T180000
DTSTAMP:20260422T222755
CREATED:20211004T162437Z
LAST-MODIFIED:20211007T163622Z
UID:4605-1633939200-1634407200@semanatomasina.santototunja.edu.co
SUMMARY:Semana Tomasina
DESCRIPTION:Descargar Agenda
URL:https://semanatomasina.santototunja.edu.co/evento/semana-tomasina-2/
LOCATION:Universidad Santo Tomás – Seccional Tunja
CATEGORIES:Jueves,Lunes,Martes,Miércoles,Sábado,Viernes
ATTACH;FMTTYPE=image/jpeg:https://semanatomasina.santototunja.edu.co/wp-content/uploads/2021/10/Semana-Tomasina-2021-Eventos.jpg
END:VEVENT
BEGIN:VEVENT
DTSTART;TZID=America/Bogota:20211011T090000
DTEND;TZID=America/Bogota:20211013T180000
DTSTAMP:20260422T222755
CREATED:20211001T213905Z
LAST-MODIFIED:20211011T190505Z
UID:4404-1633942800-1634148000@semanatomasina.santototunja.edu.co
SUMMARY:Gamecon Virtual Experience
DESCRIPTION:Dirigido a: Estudiantes\, invitados otras universidades y colegios grado 11\n– Tipo de actividad: Virtual \nSigue la transmisión: http://www.twitch.tv/iFePax \nEnlace de conexión: https://us02web.zoom.us/j/2194998080
URL:https://semanatomasina.santototunja.edu.co/evento/gamecon-virtual-experience/
LOCATION:Sala Zoom Santoto Tunja\, Colombia
CATEGORIES:Lunes,Martes,Miércoles
ATTACH;FMTTYPE=image/jpeg:https://semanatomasina.santototunja.edu.co/wp-content/uploads/2021/10/Semana-Tomasina-2021-Eventos.jpg
END:VEVENT
BEGIN:VEVENT
DTSTART;TZID=America/Bogota:20211011T180000
DTEND;TZID=America/Bogota:20211012T220000
DTSTAMP:20260422T222755
CREATED:20211001T220619Z
LAST-MODIFIED:20211006T153416Z
UID:4425-1633975200-1634076000@semanatomasina.santototunja.edu.co
SUMMARY:Videomaping: arte digital
DESCRIPTION:Dirigido a: Toda la Comunidad Tomasina\n– Tipo de actividad: Presencial
URL:https://semanatomasina.santototunja.edu.co/evento/videomaping-arte-digital/
LOCATION:Parqueadero – Edificio Santo Domingo de Guzmán – Campus Avenida Universitaria
CATEGORIES:Lunes,Martes
ATTACH;FMTTYPE=image/jpeg:https://semanatomasina.santototunja.edu.co/wp-content/uploads/2021/10/Semana-Tomasina-2021-Eventos.jpg
END:VEVENT
BEGIN:VEVENT
DTSTART;TZID=America/Bogota:20211012T080000
DTEND;TZID=America/Bogota:20211013T180000
DTSTAMP:20260422T222755
CREATED:20211001T221915Z
LAST-MODIFIED:20211006T154134Z
UID:4441-1634025600-1634148000@semanatomasina.santototunja.edu.co
SUMMARY:Exposición: "Testimonios"
DESCRIPTION:Dirigido a: Toda la Comunidad Tomasina\n– Tipo de actividad: Presencial
URL:https://semanatomasina.santototunja.edu.co/evento/exposicion-testimonios/
LOCATION:Terraza norte Edificio Santo Domingo de Guzmán – Campus Avenida Universitaria
CATEGORIES:Martes,Miércoles
ATTACH;FMTTYPE=image/jpeg:https://semanatomasina.santototunja.edu.co/wp-content/uploads/2021/10/Semana-Tomasina-2021-Eventos.jpg
END:VEVENT
BEGIN:VEVENT
DTSTART;TZID=America/Bogota:20211012T080000
DTEND;TZID=America/Bogota:20211012T130000
DTSTAMP:20260422T222755
CREATED:20211001T223145Z
LAST-MODIFIED:20211006T154650Z
UID:4456-1634025600-1634043600@semanatomasina.santototunja.edu.co
SUMMARY:Rally - Memorial Party. (Habitat Saludable)
DESCRIPTION:Dirigido a: Específico\n– Tipo de actividad: Presencial
URL:https://semanatomasina.santototunja.edu.co/evento/rally-memorial-party-habitat-saludable-2/
LOCATION:Plazoletas y znas de estar – Campus Centro Histórico
CATEGORIES:Martes
ATTACH;FMTTYPE=image/jpeg:https://semanatomasina.santototunja.edu.co/wp-content/uploads/2021/10/Martes_Semana_Tomasina.jpg
END:VEVENT
BEGIN:VEVENT
DTSTART;TZID=America/Bogota:20211012T080000
DTEND;TZID=America/Bogota:20211012T180000
DTSTAMP:20260422T222755
CREATED:20211001T224620Z
LAST-MODIFIED:20211012T132931Z
UID:4470-1634025600-1634061600@semanatomasina.santototunja.edu.co
SUMMARY:Simposio grupos de investigacion (sesión de poster estudiantes)
DESCRIPTION:Dirigido a: Toda la Comunidad Tomasina\n– Tipo de actividad: Virtual y Presencial \nEnlace de conexión: https://us02web.zoom.us/j/84246820877
URL:https://semanatomasina.santototunja.edu.co/evento/simposio-grupos-de-investigacion-sesion-de-poster-estudiantes/
LOCATION:Edificio Giordano Bruno – Campus Avenida Universitaria y Sala zoom
CATEGORIES:Martes
ATTACH;FMTTYPE=image/jpeg:https://semanatomasina.santototunja.edu.co/wp-content/uploads/2021/10/Martes_Semana_Tomasina.jpg
END:VEVENT
BEGIN:VEVENT
DTSTART;TZID=America/Bogota:20211012T080000
DTEND;TZID=America/Bogota:20211012T120000
DTSTAMP:20260422T222755
CREATED:20211004T134727Z
LAST-MODIFIED:20211006T162401Z
UID:4519-1634025600-1634040000@semanatomasina.santototunja.edu.co
SUMMARY:Taller de Moldeo y Fundición
DESCRIPTION:Dirigido a: Estudiantes\, docentes y administrativos\n– Tipo de actividad: Presencial
URL:https://semanatomasina.santototunja.edu.co/evento/taller-de-moldeo-y-fundicion/
LOCATION:Laboratorios de ingenieria Mecanica-Edificio Santo Domingo – Campus Avenida Universitaria
CATEGORIES:Martes
ATTACH;FMTTYPE=image/jpeg:https://semanatomasina.santototunja.edu.co/wp-content/uploads/2021/10/Martes_Semana_Tomasina.jpg
END:VEVENT
BEGIN:VEVENT
DTSTART;TZID=America/Bogota:20211012T080000
DTEND;TZID=America/Bogota:20211014T180000
DTSTAMP:20260422T222755
CREATED:20211004T140116Z
LAST-MODIFIED:20211006T165556Z
UID:4545-1634025600-1634234400@semanatomasina.santototunja.edu.co
SUMMARY:Ratifica tu opción vocacional
DESCRIPTION:Dirigido a: Estudiantes de 1 a 4 semestre\n– Tipo de actividad: Virtual
URL:https://semanatomasina.santototunja.edu.co/evento/ratifica-tu-opcion-vocacional/
LOCATION:Sala Zoom Santoto Tunja\, Colombia
CATEGORIES:Jueves,Martes,Miércoles
ATTACH;FMTTYPE=image/jpeg:https://semanatomasina.santototunja.edu.co/wp-content/uploads/2021/10/Semana-Tomasina-2021-Eventos.jpg
END:VEVENT
BEGIN:VEVENT
DTSTART;TZID=America/Bogota:20211012T090000
DTEND;TZID=America/Bogota:20211012T110000
DTSTAMP:20260422T222755
CREATED:20211001T212300Z
LAST-MODIFIED:20211006T195630Z
UID:4380-1634029200-1634036400@semanatomasina.santototunja.edu.co
SUMMARY:II Shark Tank
DESCRIPTION:Dirigido a: Toda la Comunidad Tomasina\n– Tipo de actividad: Presencial \nEnlace de conexión: https://us02web.zoom.us/j/87995424312
URL:https://semanatomasina.santototunja.edu.co/evento/ii-shark-tank/
LOCATION:Auditorio Bicentenario – Edificio Giordano Bruno – Campus Avenida Universitaria
CATEGORIES:Martes
ATTACH;FMTTYPE=image/jpeg:https://semanatomasina.santototunja.edu.co/wp-content/uploads/2021/10/Martes_Semana_Tomasina.jpg
END:VEVENT
BEGIN:VEVENT
DTSTART;TZID=America/Bogota:20211012T090000
DTEND;TZID=America/Bogota:20211012T110000
DTSTAMP:20260422T222755
CREATED:20211001T212950Z
LAST-MODIFIED:20211006T224952Z
UID:4389-1634029200-1634036400@semanatomasina.santototunja.edu.co
SUMMARY:Water Quality Guess
DESCRIPTION:Dirigido a: Estudiantes de la Facultad de Ingeniería Civil\n– Tipo de actividad: Presencial
URL:https://semanatomasina.santototunja.edu.co/evento/water-quality-guess/
LOCATION:Campus Avenida Universitaria Hall de Exposiciones Edificio Santo domingo
CATEGORIES:Martes
ATTACH;FMTTYPE=image/jpeg:https://semanatomasina.santototunja.edu.co/wp-content/uploads/2021/10/Martes_Semana_Tomasina.jpg
END:VEVENT
BEGIN:VEVENT
DTSTART;TZID=America/Bogota:20211012T090000
DTEND;TZID=America/Bogota:20211012T120000
DTSTAMP:20260422T222755
CREATED:20211001T213406Z
LAST-MODIFIED:20211006T144224Z
UID:4395-1634029200-1634040000@semanatomasina.santototunja.edu.co
SUMMARY:Concurso Jardín del Academo
DESCRIPTION:Dirigido a: Toda la Comunidad Tomasina\n– Tipo de actividad: Presencial
URL:https://semanatomasina.santototunja.edu.co/evento/concurso-jardin-del-academo/
LOCATION:Auditorio Mayor – Edificio Santo Domingo de Guzmán – Campus Avenida Universitaria
CATEGORIES:Martes
ATTACH;FMTTYPE=image/jpeg:https://semanatomasina.santototunja.edu.co/wp-content/uploads/2021/10/Martes_Semana_Tomasina.jpg
END:VEVENT
BEGIN:VEVENT
DTSTART;TZID=America/Bogota:20211012T090000
DTEND;TZID=America/Bogota:20211014T170000
DTSTAMP:20260422T222755
CREATED:20211001T214419Z
LAST-MODIFIED:20211006T145053Z
UID:4412-1634029200-1634230800@semanatomasina.santototunja.edu.co
SUMMARY:Concéntrese
DESCRIPTION:Dirigido a: Estudiantes\n– Tipo de actividad: Presencial
URL:https://semanatomasina.santototunja.edu.co/evento/concentrese/
LOCATION:Entrada principal de la planta Baja Edificio Santo Domingo de Guzmán y  odeón Edificio Girodano Bruno – Campus Avenida Universitaria y Campus Centro Histórico
CATEGORIES:Jueves,Martes,Miércoles
ATTACH;FMTTYPE=image/jpeg:https://semanatomasina.santototunja.edu.co/wp-content/uploads/2021/10/Semana-Tomasina-2021-Eventos.jpg
END:VEVENT
BEGIN:VEVENT
DTSTART;TZID=America/Bogota:20211012T090000
DTEND;TZID=America/Bogota:20211012T160000
DTSTAMP:20260422T222755
CREATED:20211005T194746Z
LAST-MODIFIED:20211005T195827Z
UID:4706-1634029200-1634054400@semanatomasina.santototunja.edu.co
SUMMARY:Tomasinos Researchers - Exposición de las Mejores Propuestas de Proyectos de Investigación
DESCRIPTION:Premiación de Ganadores
URL:https://semanatomasina.santototunja.edu.co/evento/tomasinos-researchers-exposicion-de-las-mejores-propuestas-de-proyectos-de-investigacion/
LOCATION:Hall de Edificio Santo Domingo de Guzmán – 1er Piso
CATEGORIES:Martes
ATTACH;FMTTYPE=image/jpeg:https://semanatomasina.santototunja.edu.co/wp-content/uploads/2021/10/Martes_Semana_Tomasina.jpg
END:VEVENT
BEGIN:VEVENT
DTSTART;TZID=America/Bogota:20211012T110000
DTEND;TZID=America/Bogota:20211012T130000
DTSTAMP:20260422T222755
CREATED:20211001T222254Z
LAST-MODIFIED:20211006T195334Z
UID:4444-1634036400-1634043600@semanatomasina.santototunja.edu.co
SUMMARY:Santoto Music Show
DESCRIPTION:Dirigido a: Toda la Comunidad Tomasina\n– Tipo de actividad: Presencial \nEnlace de conexión: https://us02web.zoom.us/j/83701437424
URL:https://semanatomasina.santototunja.edu.co/evento/santoto-music-show/
LOCATION:Auditorio San Alberto Magno – Campus Centro Histórico
CATEGORIES:Martes
ATTACH;FMTTYPE=image/jpeg:https://semanatomasina.santototunja.edu.co/wp-content/uploads/2021/10/Martes_Semana_Tomasina.jpg
END:VEVENT
BEGIN:VEVENT
DTSTART;TZID=America/Bogota:20211012T110000
DTEND;TZID=America/Bogota:20211012T123000
DTSTAMP:20260422T222755
CREATED:20211004T134320Z
LAST-MODIFIED:20211006T195956Z
UID:4506-1634036400-1634041800@semanatomasina.santototunja.edu.co
SUMMARY:Conferencia "Papel de la conversión de energía eléctrica en la  Ingeniería Electrónica"; Ing Arnold Wiesner
DESCRIPTION:Dirigido a: Estudiantes\, docentes y administrativos\n– Tipo de actividad: Presencial \nEnlace de conexión: https://us02web.zoom.us/j/4136253868
URL:https://semanatomasina.santototunja.edu.co/evento/conferencia-papel-de-la-conversion-de-energia-electrica-en-la-ingenieria-electronica-ing-arnold-wiesner/
LOCATION:Auditorío Bicentenario – Edificio Giordano Bruno – Campus Avenida Universitaria
CATEGORIES:Martes
ATTACH;FMTTYPE=image/jpeg:https://semanatomasina.santototunja.edu.co/wp-content/uploads/2021/10/Martes_Semana_Tomasina.jpg
END:VEVENT
BEGIN:VEVENT
DTSTART;TZID=America/Bogota:20211012T140000
DTEND;TZID=America/Bogota:20211012T170000
DTSTAMP:20260422T222755
CREATED:20211001T211159Z
LAST-MODIFIED:20211006T142510Z
UID:4374-1634047200-1634058000@semanatomasina.santototunja.edu.co
SUMMARY:En Contaduría estudiando y con la Santoto ganando
DESCRIPTION:Dirigido a: Toda la Comunidad Tomasina\n– Tipo de actividad: Presencial
URL:https://semanatomasina.santototunja.edu.co/evento/en-contaduria-estudiando-y-con-la-santoto-ganando/
LOCATION:Hall Campus Centro Histórico
CATEGORIES:Martes
ATTACH;FMTTYPE=image/jpeg:https://semanatomasina.santototunja.edu.co/wp-content/uploads/2021/10/Martes_Semana_Tomasina.jpg
END:VEVENT
BEGIN:VEVENT
DTSTART;TZID=America/Bogota:20211012T140000
DTEND;TZID=America/Bogota:20211012T160000
DTSTAMP:20260422T222755
CREATED:20211004T204632Z
LAST-MODIFIED:20211006T195423Z
UID:4624-1634047200-1634054400@semanatomasina.santototunja.edu.co
SUMMARY:Seminario de Ciencias Básicas
DESCRIPTION:Dirigido a: Toda la Comunidad Tomasina\n– Tipo de actividad: Virtual \nSeminario “Monitoreo y evaluación de los parametros de calidad del agua y del aire como contribución en el empoderamiento de la comunidad de Samacá en la toma de decisiones para la disminución del riesgo ambiental” \nEnlace de conexión: https://us02web.zoom.us/my/eventossantoto
URL:https://semanatomasina.santototunja.edu.co/evento/10-seminario-de-ciencias-basicas/
LOCATION:Sala Zoom Santoto Tunja\, Colombia
CATEGORIES:Martes
ATTACH;FMTTYPE=image/jpeg:https://semanatomasina.santototunja.edu.co/wp-content/uploads/2021/10/Martes_Semana_Tomasina.jpg
END:VEVENT
BEGIN:VEVENT
DTSTART;TZID=America/Bogota:20211012T160000
DTEND;TZID=America/Bogota:20211012T180000
DTSTAMP:20260422T222755
CREATED:20211001T223515Z
LAST-MODIFIED:20211006T154741Z
UID:4459-1634054400-1634061600@semanatomasina.santototunja.edu.co
SUMMARY:Maratón de aeróbicos
DESCRIPTION:Dirigido a: Toda la Comunidad Tomasina\n– Tipo de actividad: Presencial
URL:https://semanatomasina.santototunja.edu.co/evento/maraton-de-aerobicos/
LOCATION:Plataforma plazoleta principal Edificio Santo Domingo – Campus Avenida Universitaria
CATEGORIES:Martes
ATTACH;FMTTYPE=image/jpeg:https://semanatomasina.santototunja.edu.co/wp-content/uploads/2021/10/Martes_Semana_Tomasina.jpg
END:VEVENT
BEGIN:VEVENT
DTSTART;TZID=America/Bogota:20211012T160000
DTEND;TZID=America/Bogota:20211012T180000
DTSTAMP:20260422T222755
CREATED:20211006T140133Z
LAST-MODIFIED:20211007T214629Z
UID:4730-1634054400-1634061600@semanatomasina.santototunja.edu.co
SUMMARY:Hey! Hablemos de Saber Pro!
DESCRIPTION:Dirigido a: Estudiantes\n– Tipo de actividad: Presencial \nEnlace de conexión: https://us02web.zoom.us/my/santotoonline
URL:https://semanatomasina.santototunja.edu.co/evento/hey-hablemos-de-saber-pro/
LOCATION:Auditorio Mayor Edificio Santo Domingo de Guzmán – Campus Avenida Universitaria
CATEGORIES:Martes
ATTACH;FMTTYPE=image/jpeg:https://semanatomasina.santototunja.edu.co/wp-content/uploads/2021/10/Martes_Semana_Tomasina.jpg
END:VEVENT
BEGIN:VEVENT
DTSTART;TZID=America/Bogota:20211012T180000
DTEND;TZID=America/Bogota:20211012T210000
DTSTAMP:20260422T222755
CREATED:20211004T133813Z
LAST-MODIFIED:20211012T133049Z
UID:4491-1634061600-1634072400@semanatomasina.santototunja.edu.co
SUMMARY:Cineforo "La Lavanderia"
DESCRIPTION:Dirigido a: Toda la Comunidad Tomasina\n– Tipo de actividad: Virtual y Presencial \nEnlace de conexión: https://us02web.zoom.us/j/85379965220
URL:https://semanatomasina.santototunja.edu.co/evento/cineforo-la-lavanderia/
LOCATION:Auditorio Mayor San Alberto Magno – Campus Centro Histórico
CATEGORIES:Martes
ATTACH;FMTTYPE=image/jpeg:https://semanatomasina.santototunja.edu.co/wp-content/uploads/2021/10/Martes_Semana_Tomasina.jpg
END:VEVENT
BEGIN:VEVENT
DTSTART;TZID=America/Bogota:20211012T180000
DTEND;TZID=America/Bogota:20211014T200000
DTSTAMP:20260422T222755
CREATED:20211004T205712Z
LAST-MODIFIED:20211006T145648Z
UID:4628-1634061600-1634241600@semanatomasina.santototunja.edu.co
SUMMARY:Festival de Música
DESCRIPTION:Dirigido a: Toda la Comunidad Tomasina\n– Tipo de actividad: Presencial
URL:https://semanatomasina.santototunja.edu.co/evento/festival-de-musica/
LOCATION:Auditorio mayor y Plazoleta – Edificio Santo Domingo de Guzmán / Plazoleta Edificio Giordano Bruno – Campus Avenida Universitaria
CATEGORIES:Jueves,Martes
ATTACH;FMTTYPE=image/jpeg:https://semanatomasina.santototunja.edu.co/wp-content/uploads/2021/10/Martes_Semana_Tomasina.jpg
END:VEVENT
END:VCALENDAR